BEGIN:VCALENDAR
VERSION:2.0
PRODID:-//Visit West Bend, Wisconsin - ECPv6.15.20//NONSGML v1.0//EN
CALSCALE:GREGORIAN
METHOD:PUBLISH
X-WR-CALNAME:Visit West Bend, Wisconsin
X-ORIGINAL-URL:https://visitwestbend.com
X-WR-CALDESC:Events for Visit West Bend, Wisconsin
REFRESH-INTERVAL;VALUE=DURATION:PT1H
X-Robots-Tag:noindex
X-PUBLISHED-TTL:PT1H
BEGIN:VTIMEZONE
TZID:America/Chicago
BEGIN:DAYLIGHT
TZOFFSETFROM:-0600
TZOFFSETTO:-0500
TZNAME:CDT
DTSTART:20240310T080000
END:DAYLIGHT
BEGIN:STANDARD
TZOFFSETFROM:-0500
TZOFFSETTO:-0600
TZNAME:CST
DTSTART:20241103T070000
END:STANDARD
BEGIN:DAYLIGHT
TZOFFSETFROM:-0600
TZOFFSETTO:-0500
TZNAME:CDT
DTSTART:20250309T080000
END:DAYLIGHT
BEGIN:STANDARD
TZOFFSETFROM:-0500
TZOFFSETTO:-0600
TZNAME:CST
DTSTART:20251102T070000
END:STANDARD
BEGIN:DAYLIGHT
TZOFFSETFROM:-0600
TZOFFSETTO:-0500
TZNAME:CDT
DTSTART:20260308T080000
END:DAYLIGHT
BEGIN:STANDARD
TZOFFSETFROM:-0500
TZOFFSETTO:-0600
TZNAME:CST
DTSTART:20261101T070000
END:STANDARD
END:VTIMEZONE
BEGIN:VEVENT
DTSTART;VALUE=DATE:20250710
DTEND;VALUE=DATE:20250714
DTSTAMP:20260419T072501
CREATED:20250708T200756Z
LAST-MODIFIED:20250708T200838Z
UID:3428-1752105600-1752451199@visitwestbend.com
SUMMARY:Homecoming Rally at West Bend Harley-Davidson
DESCRIPTION:Jul 10 2025 9:00 am to 9:00 pm \nJul 11 2025 9:00 am to 9:00 pm \nJul 12 2025 9:00 am to 9:00 pm \nJul 13 2025 11:00 am to 2:00 pm \nWest Bend Harley-Davidson is proudly celebrating the Milwaukee area’s annual Harley-Davidson Homecoming Festival\, July 10-13! A celebration of music\, moto-culture and all-things Harley-Davidson\, the West Bend store’s four-day rally is open to enthusiasts of all ages and features live music\, stunt shows\, shopping\, food and beverages\, and the opportunity to demo the 2025 Harley-Davidson demo fleet.   \nThe West Bend Harley-Davidson’s festivities kick off on Thursday\, July 10\, at 9 a.m. with a demo truck fleet running daily through Saturday. Live music starts at 3 p.m. with Jonny T-bird\, followed by Jesse Marie & The Rippers from 6 to 9 p.m. On Friday\, July 11\, the demo fleet continues from 9 a.m. to 5 p.m.\, with live music kicking off at 11 a.m. with Grimm Brothers\, followed by Landline from 2:30 to 5:30 p.m. and closing the night with the Party Animals from 6 to 9 p.m. The lineup for Saturday\, July 12\, features local favorites including Saved by the Band from 1 to 2 p.m.\, Bruce Humphries from 2:30 to 5:30 p.m.\, and Bad Medicine from 6 to 9 p.m. Don’t miss the Street Cowboys perform epic cycle stunts at 1:30 p.m.\, 3:30 p.m. and 5:30 p.m. On Sunday\, July 13\, guests will enjoy favorites from a local DJ as the rally wraps up at 2 p.m. 
URL:https://visitwestbend.com/event/homecoming-rally-at-west-bend-harley-davidson/
LOCATION:West Bend Harley-Davidson\, 2910 W. Washington Street\, West Bend\, WI\, 53095\, United States
END:VEVENT
BEGIN:VEVENT
DTSTART;TZID=America/Chicago:20250712T093000
DTEND;TZID=America/Chicago:20250712T160000
DTSTAMP:20260419T072501
CREATED:20250708T181614Z
LAST-MODIFIED:20250708T181614Z
UID:3426-1752312600-1752336000@visitwestbend.com
SUMMARY:MOWA Community Day
DESCRIPTION:Museum of Wisconsin Art is thrilled to announce Potawatomi Community Free Day on Saturday\, July 12\, a special day of free admission and creative experiences for all visitors\, made possible through the generous support of Potawatomi Casino Hotel’s Heart of Canal Street program. \n  \nFrom 9:30–4:00\, visitors will enjoy free admission all day and participate in hands-on art activities inspired by celebrated Wisconsin artists. Guests of all ages are invited to design surreal animal collages\, craft tie-dye pencil pouches\, and bring artwork to life with a puppetry workshop inspired by Lon Michels’s Dancing Bear. All art activities are taking place from 10:00–2:00. \n  \nVisitors can also take in MOWA’s latest exhibitions\, including Dormant Season\,  \na striking display of 29 personal and evocative photographic series by Wisconsin-born artist Erinn Springer and Mukashi Mukashi\, an exhibition of hand-carved wooden masks by Madison-based artist Hideki Suzuki. \n  \nIn addition to the exhibitions and art-making\, MOWA is proud to host Big Plant\, a regional initiative working to revitalize the Milwaukee River Basin through tree planting and environmental education. Visitors will have the opportunity to take home a free tree to support this important effort in stormwater management and urban greening. \n  \nJoin MOWA for their upcoming Community Free Day on Saturday\, July 12\, a special event that reflects the museum’s mission to make art accessible and meaningful to everyone in the community. The Museum of Wisconsin Art’s Community Free Day is generously sponsored by Potawatomi’s Heart of Canal Street program. Admission is free throughout the entire day for all visitors.
URL:https://visitwestbend.com/event/mowa-community-day/
LOCATION:Museum of Wisconsin Art\, 205 Veterans Ave\, West Bend\, WI\, 53095\, United States
ATTACH;FMTTYPE=image/jpeg:https://visitwestbend.com/wp-content/uploads/2025/07/MOWA_June-2025.jpg
END:VEVENT
END:VCALENDAR