BEGIN:VCALENDAR
VERSION:2.0
PRODID:-//Visit West Bend, Wisconsin - ECPv6.15.20//NONSGML v1.0//EN
CALSCALE:GREGORIAN
METHOD:PUBLISH
X-WR-CALNAME:Visit West Bend, Wisconsin
X-ORIGINAL-URL:https://visitwestbend.com
X-WR-CALDESC:Events for Visit West Bend, Wisconsin
REFRESH-INTERVAL;VALUE=DURATION:PT1H
X-Robots-Tag:noindex
X-PUBLISHED-TTL:PT1H
BEGIN:VTIMEZONE
TZID:America/Chicago
BEGIN:DAYLIGHT
TZOFFSETFROM:-0600
TZOFFSETTO:-0500
TZNAME:CDT
DTSTART:20250309T080000
END:DAYLIGHT
BEGIN:STANDARD
TZOFFSETFROM:-0500
TZOFFSETTO:-0600
TZNAME:CST
DTSTART:20251102T070000
END:STANDARD
BEGIN:DAYLIGHT
TZOFFSETFROM:-0600
TZOFFSETTO:-0500
TZNAME:CDT
DTSTART:20260308T080000
END:DAYLIGHT
BEGIN:STANDARD
TZOFFSETFROM:-0500
TZOFFSETTO:-0600
TZNAME:CST
DTSTART:20261101T070000
END:STANDARD
BEGIN:DAYLIGHT
TZOFFSETFROM:-0600
TZOFFSETTO:-0500
TZNAME:CDT
DTSTART:20270314T080000
END:DAYLIGHT
BEGIN:STANDARD
TZOFFSETFROM:-0500
TZOFFSETTO:-0600
TZNAME:CST
DTSTART:20271107T070000
END:STANDARD
END:VTIMEZONE
BEGIN:VEVENT
DTSTART;TZID=America/Chicago:20260423T190000
DTEND;TZID=America/Chicago:20260423T220000
DTSTAMP:20260423T053317
CREATED:20260128T220604Z
LAST-MODIFIED:20260128T220604Z
UID:3590-1776970800-1776981600@visitwestbend.com
SUMMARY:Origins Singer-Songwriter Series: Zach Steinbach
DESCRIPTION:ORIGINS – A Fresh Singer-Songwriter Series\nMarch 19th through April 30th – 7pm\nNo ticket required! Simply come in and enjoy!\nA Community Partnership with National Exchange Bank & Trust \nApril 23 – Zach Steinbach \nA seasoned songwriter and guitarist\, Zach Steinbach’s music is shaped by community\, authenticity\, and a winding creative journey. From Summerfest stages and Milwaukee bars\, to a grassroots church near Chicago’s Wrigleyville\, to five formative years in Nashville and a stint of touring\, each chapter has added dimension and perspective to his work. Now resettled in his home state of Wisconsin\, Zach continues to reveal his heart through music. Known for his genuine spirit and disarming presence\, he values connection over celebrity\, seeking to meet people where they are and help them find something greater. Zach’s appearance in the ORIGINS series at The Bend Theater will mark his return to the concert stage after a season away– Time intentionally spent starting a family and choosing the rhythms of a more conventional life. The night will serve as both a homecoming celebration and a reminder of great songs not bound to space or time. Studio recordings of Zach Steinbach’s music as well as those of his prior project\, The Color Truth\, can be heard on all major streaming platforms. \n\n\n\n\n\n\n\nYour host for the night is our very own Joe Polizzi! FREE Event! No ticket required!\nShow begins at 7pm. Doors open at 6:30pm!
URL:https://visitwestbend.com/event/origins-singer-songwriter-series-zach-steinbach/
LOCATION:The Bend\, 125 N. Main St.\, West Bend\, WI\, 53095\, United States
ATTACH;FMTTYPE=image/jpeg:https://visitwestbend.com/wp-content/uploads/2026/01/Origins-Spring-Series_Web.jpg
END:VEVENT
END:VCALENDAR